BEGIN:VCALENDAR
VERSION:2.0
PRODID:-//De Luz Compétition - ECPv6.15.20//NONSGML v1.0//EN
CALSCALE:GREGORIAN
METHOD:PUBLISH
X-ORIGINAL-URL:https://deluz.ch
X-WR-CALDESC:Évènements pour De Luz Compétition
REFRESH-INTERVAL;VALUE=DURATION:PT1H
X-Robots-Tag:noindex
X-PUBLISHED-TTL:PT1H
BEGIN:VTIMEZONE
TZID:Europe/Zurich
BEGIN:DAYLIGHT
TZOFFSETFROM:+0100
TZOFFSETTO:+0200
TZNAME:CEST
DTSTART:20240331T010000
END:DAYLIGHT
BEGIN:STANDARD
TZOFFSETFROM:+0200
TZOFFSETTO:+0100
TZNAME:CET
DTSTART:20241027T010000
END:STANDARD
BEGIN:DAYLIGHT
TZOFFSETFROM:+0100
TZOFFSETTO:+0200
TZNAME:CEST
DTSTART:20250330T010000
END:DAYLIGHT
BEGIN:STANDARD
TZOFFSETFROM:+0200
TZOFFSETTO:+0100
TZNAME:CET
DTSTART:20251026T010000
END:STANDARD
BEGIN:DAYLIGHT
TZOFFSETFROM:+0100
TZOFFSETTO:+0200
TZNAME:CEST
DTSTART:20260329T010000
END:DAYLIGHT
BEGIN:STANDARD
TZOFFSETFROM:+0200
TZOFFSETTO:+0100
TZNAME:CET
DTSTART:20261025T010000
END:STANDARD
END:VTIMEZONE
BEGIN:VEVENT
DTSTART;VALUE=DATE:20250802
DTEND;VALUE=DATE:20250804
DTSTAMP:20260420T031055
CREATED:20250126T173814Z
LAST-MODIFIED:20250126T173814Z
UID:29644-1754092800-1754265599@deluz.ch
SUMMARY:Regroupement équipes Suisse
DESCRIPTION:
URL:https://deluz.ch/event/regroupement-equipes-suisse-2/
CATEGORIES:MGAS
END:VEVENT
BEGIN:VEVENT
DTSTART;VALUE=DATE:20250831
DTEND;VALUE=DATE:20250901
DTSTAMP:20260420T031055
CREATED:20250126T174300Z
LAST-MODIFIED:20250126T174300Z
UID:29650-1756598400-1756684799@deluz.ch
SUMMARY:Championnat Suisse - Manche 3 - Chalet à Gobet
DESCRIPTION:
URL:https://deluz.ch/event/championnat-suisse-manche-3-chalet-a-gobet/
LOCATION:Chalet à Gobet\, 304 Route de Berne\, 1000\, Suisse
CATEGORIES:MGAS
END:VEVENT
END:VCALENDAR