BEGIN:VCALENDAR
VERSION:2.0
PRODID:-//De Luz Compétition - ECPv6.15.20//NONSGML v1.0//EN
CALSCALE:GREGORIAN
METHOD:PUBLISH
X-WR-CALNAME:De Luz Compétition
X-ORIGINAL-URL:https://deluz.ch
X-WR-CALDESC:Évènements pour De Luz Compétition
REFRESH-INTERVAL;VALUE=DURATION:PT1H
X-Robots-Tag:noindex
X-PUBLISHED-TTL:PT1H
BEGIN:VTIMEZONE
TZID:Europe/Zurich
BEGIN:DAYLIGHT
TZOFFSETFROM:+0100
TZOFFSETTO:+0200
TZNAME:CEST
DTSTART:20230326T010000
END:DAYLIGHT
BEGIN:STANDARD
TZOFFSETFROM:+0200
TZOFFSETTO:+0100
TZNAME:CET
DTSTART:20231029T010000
END:STANDARD
BEGIN:DAYLIGHT
TZOFFSETFROM:+0100
TZOFFSETTO:+0200
TZNAME:CEST
DTSTART:20240331T010000
END:DAYLIGHT
BEGIN:STANDARD
TZOFFSETFROM:+0200
TZOFFSETTO:+0100
TZNAME:CET
DTSTART:20241027T010000
END:STANDARD
BEGIN:DAYLIGHT
TZOFFSETFROM:+0100
TZOFFSETTO:+0200
TZNAME:CEST
DTSTART:20250330T010000
END:DAYLIGHT
BEGIN:STANDARD
TZOFFSETFROM:+0200
TZOFFSETTO:+0100
TZNAME:CET
DTSTART:20251026T010000
END:STANDARD
END:VTIMEZONE
BEGIN:VEVENT
DTSTART;VALUE=DATE:20241005
DTEND;VALUE=DATE:20241007
DTSTAMP:20260426T030548
CREATED:20231015T131402Z
LAST-MODIFIED:20231015T131402Z
UID:29522-1728086400-1728259199@deluz.ch
SUMMARY:PMG de Cluny
DESCRIPTION:
URL:https://deluz.ch/event/pmg-de-cluny/
LOCATION:Haras National de Cluny\, France
CATEGORIES:Compétition Internationale
END:VEVENT
BEGIN:VEVENT
DTSTART;VALUE=DATE:20241005
DTEND;VALUE=DATE:20241007
DTSTAMP:20260426T030548
CREATED:20240320T091029Z
LAST-MODIFIED:20240320T091029Z
UID:29573-1728086400-1728259199@deluz.ch
SUMMARY:International de Ghlin
DESCRIPTION:
URL:https://deluz.ch/event/international-de-ghlin/
LOCATION:Hippodrome de Wallonie\, ghlins\, Belgique
CATEGORIES:Compétition Internationale
END:VEVENT
END:VCALENDAR