BEGIN:VCALENDAR
VERSION:2.0
PRODID:-//De Luz Compétition - ECPv6.15.20//NONSGML v1.0//EN
CALSCALE:GREGORIAN
METHOD:PUBLISH
X-WR-CALNAME:De Luz Compétition
X-ORIGINAL-URL:https://deluz.ch
X-WR-CALDESC:Évènements pour De Luz Compétition
REFRESH-INTERVAL;VALUE=DURATION:PT1H
X-Robots-Tag:noindex
X-PUBLISHED-TTL:PT1H
BEGIN:VTIMEZONE
TZID:Europe/Zurich
BEGIN:DAYLIGHT
TZOFFSETFROM:+0100
TZOFFSETTO:+0200
TZNAME:CEST
DTSTART:20250330T010000
END:DAYLIGHT
BEGIN:STANDARD
TZOFFSETFROM:+0200
TZOFFSETTO:+0100
TZNAME:CET
DTSTART:20251026T010000
END:STANDARD
BEGIN:DAYLIGHT
TZOFFSETFROM:+0100
TZOFFSETTO:+0200
TZNAME:CEST
DTSTART:20260329T010000
END:DAYLIGHT
BEGIN:STANDARD
TZOFFSETFROM:+0200
TZOFFSETTO:+0100
TZNAME:CET
DTSTART:20261025T010000
END:STANDARD
BEGIN:DAYLIGHT
TZOFFSETFROM:+0100
TZOFFSETTO:+0200
TZNAME:CEST
DTSTART:20270328T010000
END:DAYLIGHT
BEGIN:STANDARD
TZOFFSETFROM:+0200
TZOFFSETTO:+0100
TZNAME:CET
DTSTART:20271031T010000
END:STANDARD
END:VTIMEZONE
BEGIN:VEVENT
DTSTART;TZID=Europe/Zurich:20260205T190000
DTEND;TZID=Europe/Zurich:20260205T220000
DTSTAMP:20260425T141537
CREATED:20260106T182552Z
LAST-MODIFIED:20260106T182715Z
UID:29720-1770318000-1770328800@deluz.ch
SUMMARY:FGE: Assemblée Générale et Soirée de Remise des Mérites 2025
DESCRIPTION:
URL:https://deluz.ch/event/fge-assemblee-generale-et-soiree-de-remise-des-merites-2025/
LOCATION:Marriott Hotel Genève\, chemin du Ruisseau 1\, Genève\, 1217\, Switzerland
ATTACH;FMTTYPE=image/jpeg:https://deluz.ch/wp-content/uploads/2026/01/FGE.jpg
END:VEVENT
END:VCALENDAR